BEGIN:VCALENDAR
VERSION:2.0
PRODID:-//Herzlich Willkommen bei Aufarbeitung Brandenburg - ECPv6.15.20//NONSGML v1.0//EN
CALSCALE:GREGORIAN
METHOD:PUBLISH
X-ORIGINAL-URL:https://aufarbeitung.brandenburg.de
X-WR-CALDESC:Veranstaltungen für Herzlich Willkommen bei Aufarbeitung Brandenburg
REFRESH-INTERVAL;VALUE=DURATION:PT1H
X-Robots-Tag:noindex
X-PUBLISHED-TTL:PT1H
BEGIN:VTIMEZONE
TZID:Europe/Berlin
BEGIN:DAYLIGHT
TZOFFSETFROM:+0100
TZOFFSETTO:+0200
TZNAME:CEST
DTSTART:20210328T010000
END:DAYLIGHT
BEGIN:STANDARD
TZOFFSETFROM:+0200
TZOFFSETTO:+0100
TZNAME:CET
DTSTART:20211031T010000
END:STANDARD
BEGIN:DAYLIGHT
TZOFFSETFROM:+0100
TZOFFSETTO:+0200
TZNAME:CEST
DTSTART:20220327T010000
END:DAYLIGHT
BEGIN:STANDARD
TZOFFSETFROM:+0200
TZOFFSETTO:+0100
TZNAME:CET
DTSTART:20221030T010000
END:STANDARD
BEGIN:DAYLIGHT
TZOFFSETFROM:+0100
TZOFFSETTO:+0200
TZNAME:CEST
DTSTART:20230326T010000
END:DAYLIGHT
BEGIN:STANDARD
TZOFFSETFROM:+0200
TZOFFSETTO:+0100
TZNAME:CET
DTSTART:20231029T010000
END:STANDARD
END:VTIMEZONE
BEGIN:VEVENT
DTSTART;TZID=Europe/Berlin:20221125T193000
DTEND;TZID=Europe/Berlin:20221125T210000
DTSTAMP:20260419T160439
CREATED:20221010T113740Z
LAST-MODIFIED:20221010T123310Z
UID:9202-1669404600-1669410000@aufarbeitung.brandenburg.de
SUMMARY:"Sechs Weihnachten" in der Filmreihe Zeitschnitt
DESCRIPTION:Zeitschnitt 2022: Utopie und Diktatur. Die 50er Jahre im Osten\n\n\n\nFilmreihe der Beauftragten des Landes Brandenburg zur Aufarbeitung der Folgen der kommunistischen Diktatur und dem Filmmuseum Potsdam \n\n\n\n \n\n\n\nQuelle: Juliane und Eberhard  Geick\n\n\n\nDer Film berichtet vom Schicksal 38 Jugendlicher\, die im Oktober 1945 als angebliche Mitglieder der SS-Untergrundorganisation „Werwolf“ denunziert und von der sowjetischen Besatzungsmacht inhaftiert wurden. Vier Überlebende berichten über ihre Vergangenheit\, beschreiben Folter und Rechtsbeugungen\, denen sie ausgesetzt waren. Ein düsteres Kapitel deutsch-deutscher Geschichte\, das zu Zeiten der DDR totgeschwiegen wurde. „Die Sensibilität\, die die Filmemacherin bei den Interviews beweist\, wirkt sich wohltuend auf den gesamten Film aus: Nirgends eine der ebenso wohlfeilen wie fatalen Gleichsetzungen von NS-Regime und Stalinismus\, nirgends die pauschale Verdammung ‚des Russen‘ oder ‚der Kommunisten‘.“ (TAZ\, 15.3.1995) \n\n\n\nD 1994\, 110 min\, Dokumentarfilm \n\n\n\nEmpfehlung des Filmdienstes: sehenswert ab 16 JahrenR: Juliane Geick\, K: Eberhard GeickIn Anwesenheit von Juliane und Eberhard Geick. \n\n\n\nEintritt 3 Euro \n\n\n\nEine Veranstaltung in Kooperation mit dem Filmmuseum Potsdam \n\n\n\nDie Veranstaltung findet unter Einhaltung der aktuellen Hygiene- und Abstandsregeln statt.
URL:https://aufarbeitung.brandenburg.de/event/sechs-weihnachten-in-der-filmreihe-zeitschnitt/
LOCATION:Filmmuseum Potsdam\, Breite Str. 1a\, Potsdam\, 14467\, Deutschland
CATEGORIES:Filmreihe Zeitschnitt
END:VEVENT
END:VCALENDAR